BEGIN:VCALENDAR
VERSION:2.0
PRODID:spatie/icalendar-generator
DESCRIPTION:Händelser från Roo g&amp;aring\;rd ridskola och ryttarklubb
X-WR-CALDESC:Händelser från Roo g&amp;aring\;rd ridskola och ryttarklubb
REFRESH-INTERVAL;VALUE=DURATION:PT1440M
X-PUBLISHED-TTL:PT1440M
BEGIN:VTIMEZONE
TZID:Etc/GMT+0
BEGIN:STANDARD
DTSTART:20240403T100000Z
TZOFFSETFROM:+0000
TZOFFSETTO:+0000
END:STANDARD
END:VTIMEZONE
BEGIN:VTIMEZONE
TZID:UTC
BEGIN:STANDARD
DTSTART:20250724T181133Z
TZOFFSETFROM:+0000
TZOFFSETTO:+0000
END:STANDARD
END:VTIMEZONE
BEGIN:VEVENT
UID:122-110
DTSTAMP:20260420T181133Z
SUMMARY:Julkurs för vuxna 10.00-11.00 29-31 dec - anmälan på egen häst
LOCATION:Roo Gård ridskola
ORGANIZER;CN=admin:MAILTO:stallet@roogard.nu
DTSTART;TZID=Etc/GMT+0:20241229T100000
DTEND;TZID=Etc/GMT+0:20241231T110000
X-ALT-DESC;FMTTYPE=TEXT/HTML:Ett ridpass/dag\, innehållet anpassas efter e
 levernas önskemål (dressyr\, WE\, markarbete och/eller hoppning). Kursen
  innehåller även häst- och stallskötsel samt fika. Tid ca kl 9-12\, ex
 akt schema och tider beror på antal anmälda och meddelas senare men kurs
 en avslutas i god tid så att alla hinner hem och fira nyår! Grupper dela
 s in efter erfarenhet\, du&amp;hellip\;
CATEGORIES:General
URL;VALUE=URI:https://roogard.nu/mc-events/julkurs-for-vuxna-10-00-11-00-29
 -31-dec-anmalan-pa-egen-hast/
METHOD:PUBLISH
END:VEVENT
END:VCALENDAR