BEGIN:VCALENDAR
VERSION:2.0
PRODID:spatie/icalendar-generator
DESCRIPTION:Händelser från Roo g&amp;aring\;rd ridskola och ryttarklubb
X-WR-CALDESC:Händelser från Roo g&amp;aring\;rd ridskola och ryttarklubb
REFRESH-INTERVAL;VALUE=DURATION:PT1440M
X-PUBLISHED-TTL:PT1440M
BEGIN:VTIMEZONE
TZID:Etc/GMT+0
BEGIN:STANDARD
DTSTART:20240407T090000Z
TZOFFSETFROM:+0000
TZOFFSETTO:+0000
END:STANDARD
END:VTIMEZONE
BEGIN:VTIMEZONE
TZID:UTC
BEGIN:STANDARD
DTSTART:20250725T010345Z
TZOFFSETFROM:+0000
TZOFFSETTO:+0000
END:STANDARD
END:VTIMEZONE
BEGIN:VEVENT
UID:124-112
DTSTAMP:20260421T010345Z
SUMMARY:Hoppkurs 9.00-10.00 2\, 3 och 5 januari - anmälan på ponny
LOCATION:Roo Gård ridskola
ORGANIZER;CN=admin:MAILTO:stallet@roogard.nu
DTSTART;TZID=Etc/GMT+0:20250102T090000
DTEND;TZID=Etc/GMT+0:20250103T100000
X-ALT-DESC;FMTTYPE=TEXT/HTML:Observera att denn kurs är torsdag\, fredag o
 ch söndag! Denna kurs innehåller ett ridpass per dag (markarbete och hop
 pning)\, samt fika och häst- och stallskötsel. Tider beror på antal anm
 älda\, meddela gärna om du önskar rida på för- eller eftermiddag. Fö
 rkunskapskrav: du klarar att hoppa hinder i följd i galopp. Grupper delas
  in efter erfarenhet\,&amp;hellip\;
CATEGORIES:General
URL;VALUE=URI:https://roogard.nu/mc-events/hoppkurs-9-00-10-00-2-3-och-5-ja
 nuari-anmalan-pa-ponny/
METHOD:PUBLISH
END:VEVENT
END:VCALENDAR