BEGIN:VCALENDAR
VERSION:2.0
PRODID:spatie/icalendar-generator
DESCRIPTION:Händelser från Roo g&amp;aring\;rd ridskola och ryttarklubb
X-WR-CALDESC:Händelser från Roo g&amp;aring\;rd ridskola och ryttarklubb
REFRESH-INTERVAL;VALUE=DURATION:PT1440M
X-PUBLISHED-TTL:PT1440M
BEGIN:VTIMEZONE
TZID:Etc/GMT+0
BEGIN:STANDARD
DTSTART:20240410T110000Z
TZOFFSETFROM:+0000
TZOFFSETTO:+0000
END:STANDARD
END:VTIMEZONE
BEGIN:VTIMEZONE
TZID:UTC
BEGIN:STANDARD
DTSTART:20250724T105644Z
TZOFFSETFROM:+0000
TZOFFSETTO:+0000
END:STANDARD
END:VTIMEZONE
BEGIN:VEVENT
UID:130-118
DTSTAMP:20260420T105644Z
SUMMARY:Hoppkurs 11.00-12.00 2\, 3 och 5 januari - anmälan på egen häst
LOCATION:Roo Gård ridskola
ORGANIZER;CN=admin:MAILTO:stallet@roogard.nu
DTSTART;TZID=Etc/GMT+0:20250105T110000
DTEND;TZID=Etc/GMT+0:20250105T120000
X-ALT-DESC;FMTTYPE=TEXT/HTML:Observera att denn kurs är torsdag\, fredag o
 ch söndag! Denna kurs innehåller ett ridpass per dag (markarbete och hop
 pning)\, samt fika och häst- och stallskötsel. Tider beror på antal anm
 älda\, meddela gärna om du önskar rida på för- eller eftermiddag. Fö
 rkunskapskrav: du klarar att hoppa hinder i följd i galopp. Grupper delas
  in efter erfarenhet\,&amp;hellip\;
CATEGORIES:General
URL;VALUE=URI:https://roogard.nu/mc-events/hoppkurs-11-00-12-00-2-3-och-5-j
 anuari-anmalan-pa-egen-hast-2/
METHOD:PUBLISH
END:VEVENT
END:VCALENDAR