BEGIN:VCALENDAR
VERSION:2.0
PRODID:spatie/icalendar-generator
DESCRIPTION:Händelser från Roo g&amp;aring\;rd ridskola och ryttarklubb
X-WR-CALDESC:Händelser från Roo g&amp;aring\;rd ridskola och ryttarklubb
REFRESH-INTERVAL;VALUE=DURATION:PT1440M
X-PUBLISHED-TTL:PT1440M
BEGIN:VTIMEZONE
TZID:Etc/GMT+0
BEGIN:STANDARD
DTSTART:20240904T000000Z
TZOFFSETFROM:+0000
TZOFFSETTO:+0000
END:STANDARD
END:VTIMEZONE
BEGIN:VTIMEZONE
TZID:UTC
BEGIN:STANDARD
DTSTART:20250725T172125Z
TZOFFSETFROM:+0000
TZOFFSETTO:+0000
END:STANDARD
END:VTIMEZONE
BEGIN:VEVENT
UID:143-131
DTSTAMP:20260421T172125Z
SUMMARY:KM i hoppning\, dressyr och hästkunskap
LOCATION:Roo Gård ridskola
ORGANIZER;CN=admin:MAILTO:stallet@roogard.nu
DTSTART;TZID=Etc/GMT+0;VALUE=DATE:20250601
DTEND;TZID=Etc/GMT+0;VALUE=DATE:20250602
X-ALT-DESC;FMTTYPE=TEXT/HTML:Medlemskap samt gult/grönt kort krävs för a
 tt deltaga.
CATEGORIES:General
URL;VALUE=URI:https://roogard.nu/mc-events/km-i-hoppning-dressyr-och-hastku
 nskap/
METHOD:PUBLISH
END:VEVENT
END:VCALENDAR