BEGIN:VCALENDAR
VERSION:2.0
PRODID:spatie/icalendar-generator
DESCRIPTION:Händelser från Roo g&amp;aring\;rd ridskola och ryttarklubb
X-WR-CALDESC:Händelser från Roo g&amp;aring\;rd ridskola och ryttarklubb
REFRESH-INTERVAL;VALUE=DURATION:PT1440M
X-PUBLISHED-TTL:PT1440M
BEGIN:VTIMEZONE
TZID:Etc/GMT+0
BEGIN:STANDARD
DTSTART:20240703T100000Z
TZOFFSETFROM:+0000
TZOFFSETTO:+0000
END:STANDARD
END:VTIMEZONE
BEGIN:VTIMEZONE
TZID:UTC
BEGIN:STANDARD
DTSTART:20250725T145052Z
TZOFFSETFROM:+0000
TZOFFSETTO:+0000
END:STANDARD
END:VTIMEZONE
BEGIN:VEVENT
UID:150-124
DTSTAMP:20260421T145052Z
SUMMARY:Utbyteshoppning mot Vigelsjö borta
LOCATION:Ridklubben Norrtälje Ryttare Vigelsjö Gård  Norrtälje  761 52
ORGANIZER;CN=admin:MAILTO:stallet@roogard.nu
DTSTART;TZID=Etc/GMT+0:20250330T100000
DTEND;TZID=Etc/GMT+0:20250330T110000
X-ALT-DESC;FMTTYPE=TEXT/HTML:För att vara med ska du ha minst två felfria
  rundor i 70 cm eller högre på klubbtävling. Anmäl på listan på ansl
 agstavlan i stallet om du vill vara med! Kostnad 300 kr\, funktionär ska 
 medtagas.
CATEGORIES:General
URL;VALUE=URI:https://roogard.nu/mc-events/utbyteshoppning-mot-vigelsjo-bor
 ta-2/
METHOD:PUBLISH
END:VEVENT
END:VCALENDAR