BEGIN:VCALENDAR
VERSION:2.0
PRODID:spatie/icalendar-generator
DESCRIPTION:Händelser från Roo g&amp;aring\;rd ridskola och ryttarklubb
X-WR-CALDESC:Händelser från Roo g&amp;aring\;rd ridskola och ryttarklubb
REFRESH-INTERVAL;VALUE=DURATION:PT1440M
X-PUBLISHED-TTL:PT1440M
BEGIN:VTIMEZONE
TZID:Etc/GMT+0
BEGIN:STANDARD
DTSTART:20240619T140000Z
TZOFFSETFROM:+0000
TZOFFSETTO:+0000
END:STANDARD
END:VTIMEZONE
BEGIN:VTIMEZONE
TZID:UTC
BEGIN:STANDARD
DTSTART:20250725T003823Z
TZOFFSETFROM:+0000
TZOFFSETTO:+0000
END:STANDARD
END:VTIMEZONE
BEGIN:VEVENT
UID:153-136
DTSTAMP:20260421T003823Z
SUMMARY:Ponnycup hoppning borta
LOCATION:Djurgårdens ridskola Hunduddsvägen24  Stockholm  11525
ORGANIZER;CN=admin:MAILTO:stallet@roogard.nu
DTSTART;TZID=Etc/GMT+0:20250316T140000
DTEND;TZID=Etc/GMT+0:20250316T150000
X-ALT-DESC;FMTTYPE=TEXT/HTML:Mot Djurgården
CATEGORIES:General
URL;VALUE=URI:https://roogard.nu/mc-events/ponnycup-hoppning-borta-3/
METHOD:PUBLISH
END:VEVENT
END:VCALENDAR