BEGIN:VCALENDAR
VERSION:2.0
PRODID:spatie/icalendar-generator
DESCRIPTION:Händelser från Roo g&amp;aring\;rd ridskola och ryttarklubb
X-WR-CALDESC:Händelser från Roo g&amp;aring\;rd ridskola och ryttarklubb
REFRESH-INTERVAL;VALUE=DURATION:PT1440M
X-PUBLISHED-TTL:PT1440M
BEGIN:VTIMEZONE
TZID:Etc/GMT+0
BEGIN:STANDARD
DTSTART:20240626T090000Z
TZOFFSETFROM:+0000
TZOFFSETTO:+0000
END:STANDARD
END:VTIMEZONE
BEGIN:VTIMEZONE
TZID:UTC
BEGIN:STANDARD
DTSTART:20250725T041335Z
TZOFFSETFROM:+0000
TZOFFSETTO:+0000
END:STANDARD
END:VTIMEZONE
BEGIN:VEVENT
UID:154-138
DTSTAMP:20260421T041335Z
SUMMARY:Dressyrkurs - tema programridning\, anm. på ponny
LOCATION:Roo Gård ridskola
ORGANIZER;CN=admin:MAILTO:stallet@roogard.nu
DTSTART;TZID=Etc/GMT+0:20250323T090000
DTEND;TZID=Etc/GMT+0:20250323T100000
X-ALT-DESC;FMTTYPE=TEXT/HTML:Dressyrkurs med tema programridning\, instrukt
 ör Cajsa Fornander. Två ridpass\, lunch\, teori och fika. Tid ca 9-16. 
 Även elever som inte rider på Roo Gård i vanliga fall är välkomna! P
 å förmiddagen rider deltagarna i mindre grupper med fokus på hur man sk
 a tänka när man rider program och tävlar dressyr. I samband med lunchen
  har&amp;hellip\;
CATEGORIES:General
URL;VALUE=URI:https://roogard.nu/mc-events/dressyrkurs-tema-programridning-
 anm-pa-ponny/
METHOD:PUBLISH
END:VEVENT
END:VCALENDAR