BEGIN:VCALENDAR
VERSION:2.0
PRODID:spatie/icalendar-generator
DESCRIPTION:Händelser från Roo g&amp;aring\;rd ridskola och ryttarklubb
X-WR-CALDESC:Händelser från Roo g&amp;aring\;rd ridskola och ryttarklubb
REFRESH-INTERVAL;VALUE=DURATION:PT1440M
X-PUBLISHED-TTL:PT1440M
BEGIN:VTIMEZONE
TZID:Etc/GMT+0
BEGIN:STANDARD
DTSTART:20240814T100000Z
TZOFFSETFROM:+0000
TZOFFSETTO:+0000
END:STANDARD
END:VTIMEZONE
BEGIN:VTIMEZONE
TZID:UTC
BEGIN:STANDARD
DTSTART:20250725T172557Z
TZOFFSETFROM:+0000
TZOFFSETTO:+0000
END:STANDARD
END:VTIMEZONE
BEGIN:VEVENT
UID:164-148
DTSTAMP:20260421T172557Z
SUMMARY:Kurs i Working Equitation - anm på egen häst
LOCATION:Roo Gård ridskola
ORGANIZER;CN=admin:MAILTO:stallet@roogard.nu
DTSTART;TZID=Etc/GMT+0:20250511T100000
DTEND;TZID=Etc/GMT+0:20250511T110000
X-ALT-DESC;FMTTYPE=TEXT/HTML:Kurs i WE (working equitation) instruktör Len
 a Andersson. Två ridpass\, lunch\, teori och fika. Tid ca 9-16. Även ele
 ver som inte rider på Roo Gård i vanliga fall är välkomna! Du får på
  denna kurs prova olika typer av hinder som förekommer i Working Equitati
 on och lära dig mer om denna gren av ridsporten. Både&amp;hellip\;
CATEGORIES:General
URL;VALUE=URI:https://roogard.nu/mc-events/kurs-i-working-equitation-anm-pa
 -egen-hast/
METHOD:PUBLISH
END:VEVENT
END:VCALENDAR