BEGIN:VCALENDAR
VERSION:2.0
PRODID:spatie/icalendar-generator
DESCRIPTION:Händelser från Roo g&amp;aring\;rd ridskola och ryttarklubb
X-WR-CALDESC:Händelser från Roo g&amp;aring\;rd ridskola och ryttarklubb
REFRESH-INTERVAL;VALUE=DURATION:PT1440M
X-PUBLISHED-TTL:PT1440M
BEGIN:VTIMEZONE
TZID:Etc/GMT+0
BEGIN:STANDARD
DTSTART:20250226T093000Z
TZOFFSETFROM:+0000
TZOFFSETTO:+0000
END:STANDARD
END:VTIMEZONE
BEGIN:VTIMEZONE
TZID:UTC
BEGIN:STANDARD
DTSTART:20250725T000847Z
TZOFFSETFROM:+0000
TZOFFSETTO:+0000
END:STANDARD
END:VTIMEZONE
BEGIN:VEVENT
UID:177-158
DTSTAMP:20260421T000847Z
SUMMARY:Kurs i Working Equitation
LOCATION:Roo Gård ridskola
ORGANIZER;CN=admin:MAILTO:stallet@roogard.nu
DTSTART;TZID=Etc/GMT+0:20251123T093000
DTEND;TZID=Etc/GMT+0:20251123T160000
X-ALT-DESC;FMTTYPE=TEXT/HTML:Kurs i Working Equitation\, alla åldrar välk
 omna! Du behöver inte ha ridit WE tidigare för att anmäla. Instruktör 
 Lena Andersson. Två ridpass\, lunch och fika. Förkunskapskrav: Du ska be
 härska ridning i alla gångarter\, i övrigt anpassas undervisningen efte
 r deltagarnas erfarenhet. Viktgräns 80 kg. Frågor mm skickas till stalle
 t@roogard.nu\, meddela även ev specialkost till denna adress.&amp;hellip\;
CATEGORIES:General
URL;VALUE=URI:https://roogard.nu/mc-events/kurs-i-working-equitation/
METHOD:PUBLISH
END:VEVENT
END:VCALENDAR