BEGIN:VCALENDAR
VERSION:2.0
PRODID:spatie/icalendar-generator
DESCRIPTION:Händelser från Roo g&amp;aring\;rd ridskola och ryttarklubb
X-WR-CALDESC:Händelser från Roo g&amp;aring\;rd ridskola och ryttarklubb
REFRESH-INTERVAL;VALUE=DURATION:PT1440M
X-PUBLISHED-TTL:PT1440M
BEGIN:VTIMEZONE
TZID:Etc/GMT+0
BEGIN:STANDARD
DTSTART:20250303T173000Z
TZOFFSETFROM:+0000
TZOFFSETTO:+0000
END:STANDARD
END:VTIMEZONE
BEGIN:VTIMEZONE
TZID:UTC
BEGIN:STANDARD
DTSTART:20250725T033136Z
TZOFFSETFROM:+0000
TZOFFSETTO:+0000
END:STANDARD
END:VTIMEZONE
BEGIN:VEVENT
UID:178-159
DTSTAMP:20260421T033136Z
SUMMARY:Working Equitation - tema ryggning
LOCATION:Roo Gård ridskola
ORGANIZER;CN=admin:MAILTO:stallet@roogard.nu
DTSTART;TZID=Etc/GMT+0:20251128T173000
DTEND;TZID=Etc/GMT+0:20251128T183000
X-ALT-DESC;FMTTYPE=TEXT/HTML:Prova på WE! Dessa lektioner riktar sig både
  till dig som ridit WE innan eller som är nyfiken på att prova. Förkuns
 kapskrav är att du kan rida i alla gångarter\, alla åldrar är välkomn
 a. Om du vill vara med på egen häst går det också bra\, priset är då
  rabatterat. 6 platser per tillfälle. Pris&amp;hellip\;
CATEGORIES:General
URL;VALUE=URI:https://roogard.nu/mc-events/working-equitation-tema-ryggning
 /
METHOD:PUBLISH
END:VEVENT
END:VCALENDAR