BEGIN:VCALENDAR
VERSION:2.0
PRODID:spatie/icalendar-generator
DESCRIPTION:Händelser från Roo g&amp;aring\;rd ridskola och ryttarklubb
X-WR-CALDESC:Händelser från Roo g&amp;aring\;rd ridskola och ryttarklubb
REFRESH-INTERVAL;VALUE=DURATION:PT1440M
X-PUBLISHED-TTL:PT1440M
BEGIN:VTIMEZONE
TZID:Etc/GMT+0
BEGIN:STANDARD
DTSTART:20250303T183000Z
TZOFFSETFROM:+0000
TZOFFSETTO:+0000
END:STANDARD
END:VTIMEZONE
BEGIN:VTIMEZONE
TZID:UTC
BEGIN:STANDARD
DTSTART:20250725T001140Z
TZOFFSETFROM:+0000
TZOFFSETTO:+0000
END:STANDARD
END:VTIMEZONE
BEGIN:VEVENT
UID:179-160
DTSTAMP:20260421T001140Z
SUMMARY:Prova på-grupp för vuxna
LOCATION:Roo Gård ridskola
ORGANIZER;CN=admin:MAILTO:stallet@roogard.nu
DTSTART;TZID=Etc/GMT+0:20251128T183000
DTEND;TZID=Etc/GMT+0:20251128T193000
X-ALT-DESC;FMTTYPE=TEXT/HTML:Denna grupp riktar sig både till dig som vill
  prova att rida och till dig som ridit lite innan\, kanske haft ett uppeh
 åll från ridningen eller är nyfiken på att börja rida hos oss. 6 plat
 ser per tillfälle. Pris 400 kr/lektion. Anmälan är bindande och avgifte
 n betalas via Swish till 123 137 0667 (Primagruppen) i&amp;hellip\;
CATEGORIES:General
URL;VALUE=URI:https://roogard.nu/mc-events/prova-pa-grupp-for-vuxna-2/
METHOD:PUBLISH
END:VEVENT
END:VCALENDAR