BEGIN:VCALENDAR
VERSION:2.0
PRODID:spatie/icalendar-generator
DESCRIPTION:Händelser från Roo g&amp;aring\;rd ridskola och ryttarklubb
X-WR-CALDESC:Händelser från Roo g&amp;aring\;rd ridskola och ryttarklubb
REFRESH-INTERVAL;VALUE=DURATION:PT1440M
X-PUBLISHED-TTL:PT1440M
BEGIN:VTIMEZONE
TZID:Etc/GMT+0
BEGIN:STANDARD
DTSTART:20250521T093000Z
TZOFFSETFROM:+0000
TZOFFSETTO:+0000
END:STANDARD
END:VTIMEZONE
BEGIN:VTIMEZONE
TZID:UTC
BEGIN:STANDARD
DTSTART:20250725T141118Z
TZOFFSETFROM:+0000
TZOFFSETTO:+0000
END:STANDARD
END:VTIMEZONE
BEGIN:VEVENT
UID:212-190
DTSTAMP:20260421T141118Z
SUMMARY:Kurs i Working Equitation
LOCATION:Roo Gård ridskola
ORGANIZER;CN=admin:MAILTO:stallet@roogard.nu
DTSTART;TZID=Etc/GMT+0:20260215T093000
DTEND;TZID=Etc/GMT+0:20260215T160000
X-ALT-DESC;FMTTYPE=TEXT/HTML:Kurs i Working Equitation\, alla åldrar välk
 omna! Du behöver inte ha ridit WE tidigare för att anmäla. Instruktör 
 Lena Andersson. Två ridpass\, lunch och fika. Observera att tiderna är u
 ngefärliga och kan ändras beroende på antal anmälda. Förkunskapskrav:
  Du ska behärska ridning i alla gångarter\, i övrigt anpassas undervisn
 ingen efter deltagarnas erfarenhet. Viktgräns 80 kg.&amp;hellip\;
CATEGORIES:General
URL;VALUE=URI:https://roogard.nu/mc-events/kurs-i-working-equitation-2/
METHOD:PUBLISH
END:VEVENT
END:VCALENDAR