BEGIN:VCALENDAR
VERSION:2.0
PRODID:spatie/icalendar-generator
DESCRIPTION:Händelser från Roo g&amp;aring\;rd ridskola och ryttarklubb
X-WR-CALDESC:Händelser från Roo g&amp;aring\;rd ridskola och ryttarklubb
REFRESH-INTERVAL;VALUE=DURATION:PT1440M
X-PUBLISHED-TTL:PT1440M
BEGIN:VTIMEZONE
TZID:Etc/GMT+0
BEGIN:STANDARD
DTSTART:20250806T090000Z
TZOFFSETFROM:+0000
TZOFFSETTO:+0000
END:STANDARD
END:VTIMEZONE
BEGIN:VTIMEZONE
TZID:UTC
BEGIN:STANDARD
DTSTART:20250725T135717Z
TZOFFSETFROM:+0000
TZOFFSETTO:+0000
END:STANDARD
END:VTIMEZONE
BEGIN:VEVENT
UID:220-198
DTSTAMP:20260421T135717Z
SUMMARY:Klubbtävling i dressyr
LOCATION:Roo Gård ridskola
ORGANIZER;CN=admin:MAILTO:stallet@roogard.nu
DTSTART;TZID=Etc/GMT+0:20260503T090000
DTEND;TZID=Etc/GMT+0:20260503T170000
X-ALT-DESC;FMTTYPE=TEXT/HTML:
CATEGORIES:General
URL;VALUE=URI:https://roogard.nu/mc-events/klubbtavling-i-dressyr-7/
METHOD:PUBLISH
END:VEVENT
END:VCALENDAR