BEGIN:VCALENDAR
VERSION:2.0
PRODID:spatie/icalendar-generator
DESCRIPTION:Händelser från Roo g&amp;aring\;rd ridskola och ryttarklubb
X-WR-CALDESC:Händelser från Roo g&amp;aring\;rd ridskola och ryttarklubb
REFRESH-INTERVAL;VALUE=DURATION:PT1440M
X-PUBLISHED-TTL:PT1440M
BEGIN:VTIMEZONE
TZID:Etc/GMT+0
BEGIN:STANDARD
DTSTART:20250827T000000Z
TZOFFSETFROM:+0000
TZOFFSETTO:+0000
END:STANDARD
END:VTIMEZONE
BEGIN:VTIMEZONE
TZID:UTC
BEGIN:STANDARD
DTSTART:20250724T135853Z
TZOFFSETFROM:+0000
TZOFFSETTO:+0000
END:STANDARD
END:VTIMEZONE
BEGIN:VEVENT
UID:225-202
DTSTAMP:20260420T135853Z
SUMMARY:Vårhoppet på Roo Gård
LOCATION:Roo Gård ridskola
ORGANIZER;CN=admin:MAILTO:stallet@roogard.nu
DTSTART;TZID=Etc/GMT+0;VALUE=DATE:20260524
DTEND;TZID=Etc/GMT+0;VALUE=DATE:20260525
X-ALT-DESC;FMTTYPE=TEXT/HTML:1* tävling i hoppning ponny och ridhäst\, 24
  maj 2026\, Roo Gård Ryttarklubb
CATEGORIES:General
URL;VALUE=URI:https://roogard.nu/mc-events/varhoppet-pa-roo-gard/
METHOD:PUBLISH
END:VEVENT
END:VCALENDAR