BEGIN:VCALENDAR
VERSION:2.0
PRODID:spatie/icalendar-generator
DESCRIPTION:Händelser från Roo g&amp;aring\;rd ridskola och ryttarklubb
X-WR-CALDESC:Händelser från Roo g&amp;aring\;rd ridskola och ryttarklubb
REFRESH-INTERVAL;VALUE=DURATION:PT1440M
X-PUBLISHED-TTL:PT1440M
BEGIN:VTIMEZONE
TZID:Etc/GMT+0
BEGIN:STANDARD
DTSTART:20230619T173000Z
TZOFFSETFROM:+0000
TZOFFSETTO:+0000
END:STANDARD
END:VTIMEZONE
BEGIN:VTIMEZONE
TZID:UTC
BEGIN:STANDARD
DTSTART:20250725T172155Z
TZOFFSETFROM:+0000
TZOFFSETTO:+0000
END:STANDARD
END:VTIMEZONE
BEGIN:VEVENT
UID:75-67
DTSTAMP:20260421T172155Z
SUMMARY:Temaridning WE (400 kr)
LOCATION:Roo Gård ridskola
ORGANIZER;CN=admin:MAILTO:stallet@roogard.nu
DTSTART;TZID=Etc/GMT+0:20240315T173000
DTEND;TZID=Etc/GMT+0:20240315T200000
X-ALT-DESC;FMTTYPE=TEXT/HTML:Prova på Working Equitation! Du får prova ol
 ika typer av WE-hinder och även rida en bana. Öppen både för dig som r
 idit WE innan och för dig som vill prova på denna gren! Instruktör: Len
 a Anmälningsavgift 250 kr betalas vid anmälan (återbetalas ej)\, rester
 ande 150 kr vid kursstart. Swish 123 137 0667. Boka din plats&amp;hellip\;
CATEGORIES:General
URL;VALUE=URI:https://roogard.nu/mc-events/temaridning-we-400-kr/
METHOD:PUBLISH
END:VEVENT
END:VCALENDAR