BEGIN:VCALENDAR
VERSION:2.0
PRODID:spatie/icalendar-generator
DESCRIPTION:Händelser från Roo g&amp;aring\;rd ridskola och ryttarklubb
X-WR-CALDESC:Händelser från Roo g&amp;aring\;rd ridskola och ryttarklubb
REFRESH-INTERVAL;VALUE=DURATION:PT1440M
X-PUBLISHED-TTL:PT1440M
BEGIN:VTIMEZONE
TZID:Etc/GMT+0
BEGIN:STANDARD
DTSTART:20230626T173000Z
TZOFFSETFROM:+0000
TZOFFSETTO:+0000
END:STANDARD
END:VTIMEZONE
BEGIN:VTIMEZONE
TZID:UTC
BEGIN:STANDARD
DTSTART:20250726T021409Z
TZOFFSETFROM:+0000
TZOFFSETTO:+0000
END:STANDARD
END:VTIMEZONE
BEGIN:VEVENT
UID:77-69
DTSTAMP:20260422T021409Z
SUMMARY:Tema dressyr del 2: Sits och inverkan (500 kr)
LOCATION:Roo Gård ridskola
ORGANIZER;CN=admin:MAILTO:stallet@roogard.nu
DTSTART;TZID=Etc/GMT+0:20240322T173000
DTEND;TZID=Etc/GMT+0:20240322T200000
X-ALT-DESC;FMTTYPE=TEXT/HTML:Under våren erbjuder vi en serie temaridninga
 r i dressyr. Varje tillfälle innehåller både ridning i små grupper sam
 t avsutten teori där deltagarna får vara med och studera ett eller flera
  ekipage för att utveckla sin förståelse för det aktuella temat. 50% r
 abatt på fjärde tillfället om du deltar i hela serien! Instruktör: Caj
 sa\, ridtid 75&amp;hellip\;
CATEGORIES:General
URL;VALUE=URI:https://roogard.nu/mc-events/tema-dressyr-del-2-sits-och-inve
 rkan-500-kr/
METHOD:PUBLISH
END:VEVENT
END:VCALENDAR