BEGIN:VCALENDAR
VERSION:2.0
PRODID:spatie/icalendar-generator
DESCRIPTION:Händelser från Roo g&amp;aring\;rd ridskola och ryttarklubb
X-WR-CALDESC:Händelser från Roo g&amp;aring\;rd ridskola och ryttarklubb
REFRESH-INTERVAL;VALUE=DURATION:PT1440M
X-PUBLISHED-TTL:PT1440M
BEGIN:VTIMEZONE
TZID:Etc/GMT+0
BEGIN:STANDARD
DTSTART:20240331T150000Z
TZOFFSETFROM:+0000
TZOFFSETTO:+0000
END:STANDARD
END:VTIMEZONE
BEGIN:VTIMEZONE
TZID:UTC
BEGIN:STANDARD
DTSTART:20250725T101253Z
TZOFFSETFROM:+0000
TZOFFSETTO:+0000
END:STANDARD
END:VTIMEZONE
BEGIN:VEVENT
UID:121-108
DTSTAMP:20260421T101253Z
SUMMARY:Julkurs 15.00-16.00 26-28 december - anmälan på egen häst
LOCATION:Roo Gård ridskola
ORGANIZER;CN=admin:MAILTO:stallet@roogard.nu
DTSTART;TZID=Etc/GMT+0:20241226T150000
DTEND;TZID=Etc/GMT+0:20241228T160000
X-ALT-DESC;FMTTYPE=TEXT/HTML:Denna kurs innehåller ett ridpass per dag (dr
 essyr\, markarbete och hoppning)\, samt fika\, teori samt häst- och stall
 skötsel. Tid ca kl 13-18\, exakt schema och tider beror på antal anmäld
 a och meddelas senare. Förkunskapskrav: du kan rida i alla gångarter och
  har hoppat. Grupper delas in efter erfarenhet\, så även du som är ruti
 nerad ryttare&amp;hellip\;
CATEGORIES:General
URL;VALUE=URI:https://roogard.nu/mc-events/julkurs-15-00-16-00-26-28-decemb
 er-anmalan-pa-egen-hast/
METHOD:PUBLISH
END:VEVENT
END:VCALENDAR