BEGIN:VCALENDAR
VERSION:2.0
PRODID:spatie/icalendar-generator
DESCRIPTION:Händelser från Roo g&amp;aring\;rd ridskola och ryttarklubb
X-WR-CALDESC:Händelser från Roo g&amp;aring\;rd ridskola och ryttarklubb
REFRESH-INTERVAL;VALUE=DURATION:PT1440M
X-PUBLISHED-TTL:PT1440M
BEGIN:VTIMEZONE
TZID:Etc/GMT+0
BEGIN:STANDARD
DTSTART:20240821T000000Z
TZOFFSETFROM:+0000
TZOFFSETTO:+0000
END:STANDARD
END:VTIMEZONE
BEGIN:VTIMEZONE
TZID:UTC
BEGIN:STANDARD
DTSTART:20250725T100829Z
TZOFFSETFROM:+0000
TZOFFSETTO:+0000
END:STANDARD
END:VTIMEZONE
BEGIN:VEVENT
UID:141-129
DTSTAMP:20260421T100829Z
SUMMARY:Lokal hoppning ponny och häst
LOCATION:Roo Gård ridskola
ORGANIZER;CN=admin:MAILTO:stallet@roogard.nu
DTSTART;TZID=Etc/GMT+0;VALUE=DATE:20250518
DTEND;TZID=Etc/GMT+0;VALUE=DATE:20250519
X-ALT-DESC;FMTTYPE=TEXT/HTML:
CATEGORIES:General
URL;VALUE=URI:https://roogard.nu/mc-events/lokal-hoppning-ponny-och-hast/
METHOD:PUBLISH
END:VEVENT
END:VCALENDAR