BEGIN:VCALENDAR
VERSION:2.0
PRODID:spatie/icalendar-generator
DESCRIPTION:Händelser från Roo g&amp;aring\;rd ridskola och ryttarklubb
X-WR-CALDESC:Händelser från Roo g&amp;aring\;rd ridskola och ryttarklubb
REFRESH-INTERVAL;VALUE=DURATION:PT1440M
X-PUBLISHED-TTL:PT1440M
BEGIN:VTIMEZONE
TZID:Etc/GMT+0
BEGIN:STANDARD
DTSTART:20250402T170000Z
TZOFFSETFROM:+0000
TZOFFSETTO:+0000
END:STANDARD
END:VTIMEZONE
BEGIN:VTIMEZONE
TZID:UTC
BEGIN:STANDARD
DTSTART:20250724T204231Z
TZOFFSETFROM:+0000
TZOFFSETTO:+0000
END:STANDARD
END:VTIMEZONE
BEGIN:VEVENT
UID:200-178
DTSTAMP:20260420T204231Z
SUMMARY:Jullovskurs för Jenny 28-30/12
LOCATION:Roo Gård ridskola
ORGANIZER;CN=admin:MAILTO:stallet@roogard.nu
DTSTART;TZID=Etc/GMT+0:20251228T170000
DTEND;TZID=Etc/GMT+0:20251228T170000
X-ALT-DESC;FMTTYPE=TEXT/HTML:Tredagars jullovskurs med ett ridpass per dag 
 (max 8 elever per grupp)\, dressyr\, markarbete och hoppning. Kursen komme
 r att hållas på em-/kvällstid\, exakt tid meddelas någon vecka innan k
 ursstart beroende på antal grupper. Både barn och vuxna är välkomna\, 
 maxvikt är 80 kg. Grupper delas in efter kunskapsnivå. Elever som inte r
 ider hos oss i&amp;hellip\;
CATEGORIES:General
URL;VALUE=URI:https://roogard.nu/mc-events/jullovskurs-for-jenny-28-30-12/
METHOD:PUBLISH
END:VEVENT
END:VCALENDAR