BEGIN:VCALENDAR
VERSION:2.0
PRODID:spatie/icalendar-generator
DESCRIPTION:Händelser från Roo g&amp;aring\;rd ridskola och ryttarklubb
X-WR-CALDESC:Händelser från Roo g&amp;aring\;rd ridskola och ryttarklubb
REFRESH-INTERVAL;VALUE=DURATION:PT1440M
X-PUBLISHED-TTL:PT1440M
BEGIN:VTIMEZONE
TZID:Etc/GMT+0
BEGIN:STANDARD
DTSTART:20250407T140000Z
TZOFFSETFROM:+0000
TZOFFSETTO:+0000
END:STANDARD
END:VTIMEZONE
BEGIN:VTIMEZONE
TZID:UTC
BEGIN:STANDARD
DTSTART:20250726T011829Z
TZOFFSETFROM:+0000
TZOFFSETTO:+0000
END:STANDARD
END:VTIMEZONE
BEGIN:VEVENT
UID:203-181
DTSTAMP:20260422T011829Z
SUMMARY:Hoppkurs för Cajsa 2-4/1 - anmälan på ponny
LOCATION:Roo Gård ridskola
ORGANIZER;CN=admin:MAILTO:stallet@roogard.nu
DTSTART;TZID=Etc/GMT+0:20260102T140000
DTEND;TZID=Etc/GMT+0:20260102T150000
X-ALT-DESC;FMTTYPE=TEXT/HTML:Tredagars hoppkurs för Cajsa\, ett ridpass pe
 r dag med markarbete och hoppning. Kursen kommer att hållas på em-/kväl
 lstid\, exakt tid meddelas någon vecka innan kursstart beroende på antal
  grupper. Både barn och vuxna är välkomna\, maxvikt är 80 kg och du sk
 a kunna rida i alla gångarter samt ha hoppat förut. Elever som inte ride
 r&amp;hellip\;
CATEGORIES:General
URL;VALUE=URI:https://roogard.nu/mc-events/hoppkurs-for-cajsa-2-4-1-anmalan
 -pa-ponny/
METHOD:PUBLISH
END:VEVENT
END:VCALENDAR