BEGIN:VCALENDAR
VERSION:2.0
PRODID:spatie/icalendar-generator
DESCRIPTION:Händelser från Roo g&amp;aring\;rd ridskola och ryttarklubb
X-WR-CALDESC:Händelser från Roo g&amp;aring\;rd ridskola och ryttarklubb
REFRESH-INTERVAL;VALUE=DURATION:PT1440M
X-PUBLISHED-TTL:PT1440M
BEGIN:VTIMEZONE
TZID:Etc/GMT+0
BEGIN:STANDARD
DTSTART:20250813T000000Z
TZOFFSETFROM:+0000
TZOFFSETTO:+0000
END:STANDARD
END:VTIMEZONE
BEGIN:VTIMEZONE
TZID:UTC
BEGIN:STANDARD
DTSTART:20250724T110024Z
TZOFFSETFROM:+0000
TZOFFSETTO:+0000
END:STANDARD
END:VTIMEZONE
BEGIN:VEVENT
UID:224-201
DTSTAMP:20260420T110024Z
SUMMARY:Vårdressyr med Ponnyallsvenskan dressyr div. III omgång 2
LOCATION:Roo Gård ridskola
ORGANIZER;CN=admin:MAILTO:stallet@roogard.nu
DTSTART;TZID=Etc/GMT+0;VALUE=DATE:20260510
DTEND;TZID=Etc/GMT+0;VALUE=DATE:20260511
X-ALT-DESC;FMTTYPE=TEXT/HTML:1* tävling i dressyr ponny\, 10 maj 2026\, Ro
 o Gård Ryttarklubb
CATEGORIES:General
URL;VALUE=URI:https://roogard.nu/mc-events/vardressyr-med-ponnyallsvenskan-
 dressyr-div-iii-omgang-2/
METHOD:PUBLISH
END:VEVENT
END:VCALENDAR