BEGIN:VCALENDAR
VERSION:2.0
PRODID:spatie/icalendar-generator
DESCRIPTION:Händelser från Roo g&amp;aring\;rd ridskola och ryttarklubb
X-WR-CALDESC:Händelser från Roo g&amp;aring\;rd ridskola och ryttarklubb
REFRESH-INTERVAL;VALUE=DURATION:PT1440M
X-PUBLISHED-TTL:PT1440M
BEGIN:VTIMEZONE
TZID:Etc/GMT+0
BEGIN:STANDARD
DTSTART:20220524T000000Z
TZOFFSETFROM:+0000
TZOFFSETTO:+0000
END:STANDARD
END:VTIMEZONE
BEGIN:VTIMEZONE
TZID:UTC
BEGIN:STANDARD
DTSTART:20250725T101030Z
TZOFFSETFROM:+0000
TZOFFSETTO:+0000
END:STANDARD
END:VTIMEZONE
BEGIN:VEVENT
UID:31-24
DTSTAMP:20260421T101030Z
SUMMARY:Ponnycup hoppning Täby
LOCATION:Täby Ryttarcenter Efraimsbergsvägen 7  Täby  18775
ORGANIZER;CN=admin:MAILTO:stallet@roogard.nu
DTSTART;TZID=Etc/GMT+0:20230218T000000
DTEND;TZID=Etc/GMT+0:20230218T010000
X-ALT-DESC;FMTTYPE=TEXT/HTML:Bortamatch
CATEGORIES:General
URL;VALUE=URI:https://roogard.nu/mc-events/ponnycup-hoppning-taby/
METHOD:PUBLISH
END:VEVENT
END:VCALENDAR