BEGIN:VCALENDAR
VERSION:2.0
PRODID:spatie/icalendar-generator
DESCRIPTION:Händelser från Roo g&amp;aring\;rd ridskola och ryttarklubb
X-WR-CALDESC:Händelser från Roo g&amp;aring\;rd ridskola och ryttarklubb
REFRESH-INTERVAL;VALUE=DURATION:PT1440M
X-PUBLISHED-TTL:PT1440M
BEGIN:VTIMEZONE
TZID:Etc/GMT+0
BEGIN:STANDARD
DTSTART:20220718T180000Z
TZOFFSETFROM:+0000
TZOFFSETTO:+0000
END:STANDARD
END:VTIMEZONE
BEGIN:VTIMEZONE
TZID:UTC
BEGIN:STANDARD
DTSTART:20250724T105803Z
TZOFFSETFROM:+0000
TZOFFSETTO:+0000
END:STANDARD
END:VTIMEZONE
BEGIN:VEVENT
UID:44-37
DTSTAMP:20260420T105803Z
SUMMARY:Tema barbacka
LOCATION:Roo Gård ridskola
ORGANIZER;CN=admin:MAILTO:stallet@roogard.nu
DTSTART;TZID=Etc/GMT+0:20230414T180000
DTEND;TZID=Etc/GMT+0:20230414T190000
X-ALT-DESC;FMTTYPE=TEXT/HTML:Pris: 350 kr Träna balans och sits utan sadel
  Instruktör Katta
CATEGORIES:General
URL;VALUE=URI:https://roogard.nu/mc-events/tema-barbacka/
METHOD:PUBLISH
END:VEVENT
END:VCALENDAR