BEGIN:VCALENDAR
VERSION:2.0
PRODID:spatie/icalendar-generator
DESCRIPTION:Händelser från Roo g&amp;aring\;rd ridskola och ryttarklubb
X-WR-CALDESC:Händelser från Roo g&amp;aring\;rd ridskola och ryttarklubb
REFRESH-INTERVAL;VALUE=DURATION:PT1440M
X-PUBLISHED-TTL:PT1440M
BEGIN:VTIMEZONE
TZID:Etc/GMT+0
BEGIN:STANDARD
DTSTART:20230515T173000Z
TZOFFSETFROM:+0000
TZOFFSETTO:+0000
END:STANDARD
END:VTIMEZONE
BEGIN:VTIMEZONE
TZID:UTC
BEGIN:STANDARD
DTSTART:20250725T212857Z
TZOFFSETFROM:+0000
TZOFFSETTO:+0000
END:STANDARD
END:VTIMEZONE
BEGIN:VEVENT
UID:61-54
DTSTAMP:20260421T212857Z
SUMMARY:Temaridning: Prova på för föräldrar/syskon (400 kr)
LOCATION:Roo Gård ridskola
ORGANIZER;CN=admin:MAILTO:stallet@roogard.nu
DTSTART;TZID=Etc/GMT+0:20240209T173000
DTEND;TZID=Etc/GMT+0:20240209T200000
X-ALT-DESC;FMTTYPE=TEXT/HTML:Har du barn eller syskon som rider på ridskol
 an och skulle vilja prova att rida? Då är du välkommen på denna temari
 dning! Vi går igenom grunderna i ridning och du får prova att rida i sm
 å grupper\, med ledare om du inte har någon ridvana. Anmälningsavgift 2
 50 kr betalas vid anmälan (återbetalas ej)\, resterande 150&amp;hellip\;
CATEGORIES:General
URL;VALUE=URI:https://roogard.nu/mc-events/temaridning-prova-pa-for-foraldr
 ar-syskon-400-kr/
METHOD:PUBLISH
END:VEVENT
END:VCALENDAR