BEGIN:VCALENDAR
VERSION:2.0
PRODID:spatie/icalendar-generator
DESCRIPTION:Händelser från Roo g&amp;aring\;rd ridskola och ryttarklubb
X-WR-CALDESC:Händelser från Roo g&amp;aring\;rd ridskola och ryttarklubb
REFRESH-INTERVAL;VALUE=DURATION:PT1440M
X-PUBLISHED-TTL:PT1440M
BEGIN:VTIMEZONE
TZID:Etc/GMT+0
BEGIN:STANDARD
DTSTART:20230605T090000Z
TZOFFSETFROM:+0000
TZOFFSETTO:+0000
END:STANDARD
END:VTIMEZONE
BEGIN:VTIMEZONE
TZID:UTC
BEGIN:STANDARD
DTSTART:20250725T100710Z
TZOFFSETFROM:+0000
TZOFFSETTO:+0000
END:STANDARD
END:VTIMEZONE
BEGIN:VEVENT
UID:67-59
DTSTAMP:20260421T100710Z
SUMMARY:Egen häst för en dag! (600 kr)
LOCATION:Roo Gård ridskola
ORGANIZER;CN=admin:MAILTO:stallet@roogard.nu
DTSTART;TZID=Etc/GMT+0:20240301T090000
DTEND;TZID=Etc/GMT+0:20240301T150000
X-ALT-DESC;FMTTYPE=TEXT/HTML:Prova hur det är att ha en egen häst! Denna 
 dag får du en helt \"egen\" häst att ta hand om. Du får se vad det inne
 bär att ha egen häst\, med mockning\, förberedelser och fodring av mat\
 , intag från hage\, visitering\, skötsel och ridning. Kursen innehåller
  praktiskt arbete i stallet\, teori om hästens skötsel\,&amp;hellip\;
CATEGORIES:General
URL;VALUE=URI:https://roogard.nu/mc-events/egen-hast-for-en-dag-600-kr/
METHOD:PUBLISH
END:VEVENT
END:VCALENDAR